BEGIN:VCALENDAR
VERSION:2.0
PRODID:icalendar-ruby
CALSCALE:GREGORIAN
METHOD:PUBLISH
BEGIN:VEVENT
DTSTAMP:20260422T000514Z
UID:255-6279517@bfwc.ca
DTSTART:20260425T190000Z
DTEND:20260425T210000Z
CLASS:PUBLIC
CREATED:20260417T095157
DESCRIPTION:
LAST-MODIFIED:20260417T095157
LOCATION:Bethel Family Worship Centre
SUMMARY:Bethel Ladies Gathering
URL;VALUE=URI:https://www.bfwc.ca/events/bethel-ladies-gathering--255/2026-
 04-25
ATTACH;FILENAME=Bethel-womens-Apr-25.png;FMTTYPE=image/png:https://dq5pwpg1
 q8ru0.cloudfront.net/2026/04/17/15/51/56/f3449c6a-0c0c-4596-a9e5-c3d464eb0
 eef/Bethel-womens-Apr-25.png
END:VEVENT
END:VCALENDAR
