BEGIN:VCALENDAR
VERSION:2.0
PRODID:icalendar-ruby
CALSCALE:GREGORIAN
METHOD:PUBLISH
BEGIN:VEVENT
DTSTAMP:20260420T082220Z
UID:20-6319161@bfwc.ca
DTSTART:20210126T020000Z
DTEND:20210126T030000Z
CLASS:PUBLIC
CREATED:20260419T224328
DESCRIPTION:Men's Prayer Meeting
LAST-MODIFIED:20260419T224328
LOCATION:Ideal Carpets & Interiors
SUMMARY:Men's Prayer Meeting
URL;VALUE=URI:https://www.bfwc.ca/events/mens-prayer-meeting/2021-01-25
END:VEVENT
END:VCALENDAR
